BEGIN:VCALENDAR
VERSION:2.0
PRODID:-//Capital Crew Boosters - ECPv6.15.20//NONSGML v1.0//EN
CALSCALE:GREGORIAN
METHOD:PUBLISH
X-WR-CALNAME:Capital Crew Boosters
X-ORIGINAL-URL:https://capitalcrewboosters.org
X-WR-CALDESC:Events for Capital Crew Boosters
REFRESH-INTERVAL;VALUE=DURATION:PT1H
X-Robots-Tag:noindex
X-PUBLISHED-TTL:PT1H
BEGIN:VTIMEZONE
TZID:America/New_York
BEGIN:DAYLIGHT
TZOFFSETFROM:-0500
TZOFFSETTO:-0400
TZNAME:EDT
DTSTART:20230312T070000
END:DAYLIGHT
BEGIN:STANDARD
TZOFFSETFROM:-0400
TZOFFSETTO:-0500
TZNAME:EST
DTSTART:20231105T060000
END:STANDARD
BEGIN:DAYLIGHT
TZOFFSETFROM:-0500
TZOFFSETTO:-0400
TZNAME:EDT
DTSTART:20240310T070000
END:DAYLIGHT
BEGIN:STANDARD
TZOFFSETFROM:-0400
TZOFFSETTO:-0500
TZNAME:EST
DTSTART:20241103T060000
END:STANDARD
BEGIN:DAYLIGHT
TZOFFSETFROM:-0500
TZOFFSETTO:-0400
TZNAME:EDT
DTSTART:20250309T070000
END:DAYLIGHT
BEGIN:STANDARD
TZOFFSETFROM:-0400
TZOFFSETTO:-0500
TZNAME:EST
DTSTART:20251102T060000
END:STANDARD
END:VTIMEZONE
BEGIN:VTIMEZONE
TZID:UTC
BEGIN:STANDARD
TZOFFSETFROM:+0000
TZOFFSETTO:+0000
TZNAME:UTC
DTSTART:20220101T000000
END:STANDARD
END:VTIMEZONE
BEGIN:VEVENT
DTSTART;VALUE=DATE:20241127
DTEND;VALUE=DATE:20241201
DTSTAMP:20260420T082447
CREATED:20241109T194348Z
LAST-MODIFIED:20241109T194348Z
UID:951-1732665600-1733011199@capitalcrewboosters.org
SUMMARY:No Practice - Thanksgiving Break
DESCRIPTION:AC Closed
URL:https://capitalcrewboosters.org/event/no-practice-thanksgiving-break/
CATEGORIES:Novice Men,Novice Women,Varsity Men,Varsity Women
END:VEVENT
BEGIN:VEVENT
DTSTART;TZID=UTC:20230531T080000
DTEND;TZID=UTC:20230531T170000
DTSTAMP:20260420T082447
CREATED:20230531T205521Z
LAST-MODIFIED:20230531T205521Z
UID:210-1685520000-1685552400@capitalcrewboosters.org
SUMMARY:VM 1
DESCRIPTION:
URL:https://capitalcrewboosters.org/event/vm-1/
CATEGORIES:Varsity Men
END:VEVENT
END:VCALENDAR